BEGIN:VCALENDAR
VERSION:2.0
PRODID:-//St. Patrick Church of Arcola - ECPv6.15.18//NONSGML v1.0//EN
CALSCALE:GREGORIAN
METHOD:PUBLISH
X-ORIGINAL-URL:https://stpatrickarcola.org
X-WR-CALDESC:Events for St. Patrick Church of Arcola
REFRESH-INTERVAL;VALUE=DURATION:PT1H
X-Robots-Tag:noindex
X-PUBLISHED-TTL:PT1H
BEGIN:VTIMEZONE
TZID:America/Indiana/Indianapolis
BEGIN:DAYLIGHT
TZOFFSETFROM:-0500
TZOFFSETTO:-0400
TZNAME:EDT
DTSTART:20240310T070000
END:DAYLIGHT
BEGIN:STANDARD
TZOFFSETFROM:-0400
TZOFFSETTO:-0500
TZNAME:EST
DTSTART:20241103T060000
END:STANDARD
BEGIN:DAYLIGHT
TZOFFSETFROM:-0500
TZOFFSETTO:-0400
TZNAME:EDT
DTSTART:20250309T070000
END:DAYLIGHT
BEGIN:STANDARD
TZOFFSETFROM:-0400
TZOFFSETTO:-0500
TZNAME:EST
DTSTART:20251102T060000
END:STANDARD
BEGIN:DAYLIGHT
TZOFFSETFROM:-0500
TZOFFSETTO:-0400
TZNAME:EDT
DTSTART:20260308T070000
END:DAYLIGHT
BEGIN:STANDARD
TZOFFSETFROM:-0400
TZOFFSETTO:-0500
TZNAME:EST
DTSTART:20261101T060000
END:STANDARD
END:VTIMEZONE
BEGIN:VEVENT
DTSTART;TZID=America/Indiana/Indianapolis:20250601T143000
DTEND;TZID=America/Indiana/Indianapolis:20250601T143000
DTSTAMP:20260421T172647
CREATED:20250520T150251Z
LAST-MODIFIED:20250520T150257Z
UID:10000756-1748788200-1748788200@stpatrickarcola.org
SUMMARY:Newcomer Choir Practice on Sunday\, June 1 at 2:30 pm. Please come if interested in singing or playing an instrument.
DESCRIPTION:Newcomer Choir Practice on Sunday\, June 1 at 2:30 pm if you are interested in joining the Choir or participation with an instrument\, please come to our newcomer practice! If you are considering joining\, please come up to the choir loft and introduce yourself to the organist after mass.
URL:https://stpatrickarcola.org/event/newcomer-choir-practice-on-sunday-june-1-at-230-pm-please-come-if-interested-in-singing-or-playing-an-instrument/
END:VEVENT
BEGIN:VEVENT
DTSTART;TZID=America/Indiana/Indianapolis:20250606T080000
DTEND;TZID=America/Indiana/Indianapolis:20250606T080000
DTSTAMP:20260421T172647
CREATED:20250520T150412Z
LAST-MODIFIED:20250520T150418Z
UID:10000757-1749196800-1749196800@stpatrickarcola.org
SUMMARY:First Friday Mass and Devotions will be on Friday\, June 6 at 8am Mass followed by Adoration\, Confession\, and Devotions.
DESCRIPTION:First Friday Mass and Devotions will be on Friday\, June 6 at 8am Mass followed by Adoration\, Confession\, and Devotions.
URL:https://stpatrickarcola.org/event/first-friday-mass-and-devotions-will-be-on-friday-june-6-at-8am-mass-followed-by-adoration-confession-and-devotions/
END:VEVENT
BEGIN:VEVENT
DTSTART;TZID=America/Indiana/Indianapolis:20250607T080000
DTEND;TZID=America/Indiana/Indianapolis:20250607T080000
DTSTAMP:20260421T172647
CREATED:20250520T150514Z
LAST-MODIFIED:20250520T150520Z
UID:10000758-1749283200-1749283200@stpatrickarcola.org
SUMMARY:First Saturday Mass and Devotions will be held on Saturday\, June 7 at 8:00 am Mass followed by Adoration\, Confession\, and First Saturday Devotions.
DESCRIPTION:First Saturday Mass and Devotions will be held on Saturday\, June 7 at 8:00 am Mass followed by Adoration\, Confession\, and First Saturday Devotions.
URL:https://stpatrickarcola.org/event/first-saturday-mass-and-devotions-will-be-held-on-saturday-june-7-at-800-am-mass-followed-by-adoration-confession-and-first-saturday-devotions/
END:VEVENT
BEGIN:VEVENT
DTSTART;TZID=America/Indiana/Indianapolis:20250609T190000
DTEND;TZID=America/Indiana/Indianapolis:20250609T190000
DTSTAMP:20260421T172647
CREATED:20250527T143958Z
LAST-MODIFIED:20250527T144012Z
UID:10000760-1749495600-1749495600@stpatrickarcola.org
SUMMARY:Pro-Life Meeting will be held on Monday\, June 9 at 7pm in St. Patrick parish hall.
DESCRIPTION:Pro-Life Meeting will be held on Monday\, June 9 at 7pm in St. Patrick parish hall. Guest speaker Lisa Davis and her husband Mike from Deeper Still of Northern Indiana. They hold retreats for and minister to women and men who have been affected by Abortion. We hope to see you there!
URL:https://stpatrickarcola.org/event/pro-life-meeting-will-be-held-on-monday-june-9-at-7pm-in-st-patrick-parish-hall/
END:VEVENT
BEGIN:VEVENT
DTSTART;TZID=America/Indiana/Indianapolis:20250614T000000
DTEND;TZID=America/Indiana/Indianapolis:20250615T000000
DTSTAMP:20260421T172647
CREATED:20250610T171339Z
LAST-MODIFIED:20250610T171350Z
UID:10000764-1749859200-1749945600@stpatrickarcola.org
SUMMARY:Cemetery Fund Collection to help maintain St. Patrick's Cemetery will held at all the weekend masses on June 14 & 15.
DESCRIPTION:Cemetery Fund Collection to help maintain St. Patrick’s Cemetery will held at all the weekend masses on June 14 & 15.
URL:https://stpatrickarcola.org/event/cemetery-fund-collection-to-help-maintain-st-patricks-cemetery-will-held-at-all-the-weekend-masses-on-june-14-15/
END:VEVENT
BEGIN:VEVENT
DTSTART;VALUE=DATE:20250614
DTEND;VALUE=DATE:20250616
DTSTAMP:20260421T172647
CREATED:20250527T145142Z
LAST-MODIFIED:20250527T145214Z
UID:10000763-1749859200-1750031999@stpatrickarcola.org
SUMMARY:Drive-thru Baby Shower in honor and memory of Bonnie Davis on Saturday\, June 14 and Sunday\, June 15 after all of the weekend masses
DESCRIPTION:Drive-thru Baby Shower in honor and memory of Bonnie Davis on Saturday\, June 14 and Sunday\, June 15 after all of the weekend masses. All donations will go to the local Women’s Care Centers. Donations can be dropped off under the tent by the old school building. Thank you.
URL:https://stpatrickarcola.org/event/drive-thru-baby-shower-in-honor-and-memory-of-bonnie-davis-on-saturday-june-14-and-sunday-june-15-after-all-of-the-weekend-masses/
END:VEVENT
BEGIN:VEVENT
DTSTART;TZID=America/Indiana/Indianapolis:20250615T110000
DTEND;TZID=America/Indiana/Indianapolis:20250615T110000
DTSTAMP:20260421T172647
CREATED:20250610T171700Z
LAST-MODIFIED:20250610T171707Z
UID:10000765-1749985200-1749985200@stpatrickarcola.org
SUMMARY:Father's Day Chicken on Sunday\, June 15 from 11am till gone at the Fire Station - drive thru only\, free will donation\, chicken halves only
DESCRIPTION:Father’s Day Chicken on Sunday\, June 15 from 11am till gone at the Fire Station – drive thru only\, free will donation\, chicken halves only. \nSponsored by Arcola Lions Club and all proceeds will support events and charities in our local community. \n  \n 
URL:https://stpatrickarcola.org/event/fathers-day-chicken-on-sunday-june-15-from-11am-till-gone-at-the-fire-station-drive-thru-only-free-will-donation-chicken-halves-only/
END:VEVENT
BEGIN:VEVENT
DTSTART;VALUE=DATE:20250621
DTEND;VALUE=DATE:20250623
DTSTAMP:20260421T172647
CREATED:20250527T144155Z
LAST-MODIFIED:20250527T144205Z
UID:10000761-1750464000-1750636799@stpatrickarcola.org
SUMMARY:Annual Recommissioning of all Eucharistic Ministers will be at all the masses the weekend of The Most Holy Body and Blood of Christ (Corpus Christi) June 21 & 22.
DESCRIPTION:Annual Recommissioning of all Eucharistic Ministers will be at all the masses the weekend of The Most Holy Body and Blood of Christ (Corpus Christi) June 21 & 22. Please inform the parish office if you cannot attend. Mark your calendars now!
URL:https://stpatrickarcola.org/event/annual-recommissioning-of-all-eucharistic-ministers-will-be-at-all-the-masses-the-weekend-of-the-most-holy-body-and-blood-of-christ-corpus-christi-june-21-22/
END:VEVENT
BEGIN:VEVENT
DTSTART;VALUE=DATE:20250621
DTEND;VALUE=DATE:20250623
DTSTAMP:20260421T172647
CREATED:20250527T144341Z
LAST-MODIFIED:20250527T144347Z
UID:10000762-1750464000-1750636799@stpatrickarcola.org
SUMMARY:Parish Eucharistic Consecration will be held at all the masses the weekend of Corpus Christi on June 21 & 22 for those who have faithfully completed this extraordinary spiritual pilgrimage
DESCRIPTION:Parish Eucharistic Consecration will be held at all the masses the weekend of Corpus Christi on June 21 & 22 for those who have faithfully completed this extraordinary spiritual pilgrimage and have consecrated themselves and their families to Jesus in the Holy Eucharist. May this be the beginning of a renewed understanding\, appreciation\, and love of Jesus in the Holy Eucharist the source and summit of our Christian Life!
URL:https://stpatrickarcola.org/event/parish-eucharistic-consecration-will-be-held-at-all-the-masses-the-weekend-of-corpus-christi-on-june-21-22-for-those-who-have-faithfully-completed-this-extraordinary-spiritual-pilgrimage/
END:VEVENT
BEGIN:VEVENT
DTSTART;TZID=America/Indiana/Indianapolis:20250623T000000
DTEND;TZID=America/Indiana/Indianapolis:20250627T000000
DTSTAMP:20260421T172647
CREATED:20250613T115635Z
LAST-MODIFIED:20250613T115640Z
UID:10000767-1750636800-1750982400@stpatrickarcola.org
SUMMARY:No Weekday masses during the week of June 23-27.  Fr. John will be attending the Annual priest retreat.
DESCRIPTION:No Weekday masses during the week of June 23-27. Fr. John will be attending the Annual priest retreat.
URL:https://stpatrickarcola.org/event/no-weekday-masses-during-the-week-of-june-23-27-fr-john-will-be-attending-the-annual-priest-retreat/
END:VEVENT
BEGIN:VEVENT
DTSTART;VALUE=DATE:20250628
DTEND;VALUE=DATE:20250630
DTSTAMP:20260421T172647
CREATED:20250520T150755Z
LAST-MODIFIED:20250520T150851Z
UID:10000759-1751068800-1751241599@stpatrickarcola.org
SUMMARY:Church Directory Portraits for St. Patrick's Church new church directory on June 28 & 29.
DESCRIPTION:Church Directory Portraits for St. Patrick’s Church new church directory on June 28 & 29.
URL:https://stpatrickarcola.org/event/church-directory-portraits-for-st-patricks-church-new-church-directory-on-june-28-29/
END:VEVENT
END:VCALENDAR