BEGIN:VCALENDAR
VERSION:2.0
PRODID:-//St. Patrick Church of Arcola - ECPv6.15.18//NONSGML v1.0//EN
CALSCALE:GREGORIAN
METHOD:PUBLISH
X-WR-CALNAME:St. Patrick Church of Arcola
X-ORIGINAL-URL:https://stpatrickarcola.org
X-WR-CALDESC:Events for St. Patrick Church of Arcola
REFRESH-INTERVAL;VALUE=DURATION:PT1H
X-Robots-Tag:noindex
X-PUBLISHED-TTL:PT1H
BEGIN:VTIMEZONE
TZID:America/Indiana/Indianapolis
BEGIN:DAYLIGHT
TZOFFSETFROM:-0500
TZOFFSETTO:-0400
TZNAME:EDT
DTSTART:20250309T070000
END:DAYLIGHT
BEGIN:STANDARD
TZOFFSETFROM:-0400
TZOFFSETTO:-0500
TZNAME:EST
DTSTART:20251102T060000
END:STANDARD
BEGIN:DAYLIGHT
TZOFFSETFROM:-0500
TZOFFSETTO:-0400
TZNAME:EDT
DTSTART:20260308T070000
END:DAYLIGHT
BEGIN:STANDARD
TZOFFSETFROM:-0400
TZOFFSETTO:-0500
TZNAME:EST
DTSTART:20261101T060000
END:STANDARD
BEGIN:DAYLIGHT
TZOFFSETFROM:-0500
TZOFFSETTO:-0400
TZNAME:EDT
DTSTART:20270314T070000
END:DAYLIGHT
BEGIN:STANDARD
TZOFFSETFROM:-0400
TZOFFSETTO:-0500
TZNAME:EST
DTSTART:20271107T060000
END:STANDARD
END:VTIMEZONE
BEGIN:VEVENT
DTSTART;TZID=America/Indiana/Indianapolis:20260420T180000
DTEND;TZID=America/Indiana/Indianapolis:20260420T180000
DTSTAMP:20260420T072222
CREATED:20260414T160051Z
LAST-MODIFIED:20260414T160055Z
UID:10000949-1776708000-1776708000@stpatrickarcola.org
SUMMARY:Pro-Life Group of St. Patrick’s and Queen of Angels will meet on Monday evening April 20 at 6pm at St. Patrick’s Parish Hall.  All are welcome!
DESCRIPTION:Pro-Life Group of St. Patrick’s and Queen of Angels will meet on Monday evening April 20 at 6pm at St. Patrick’s Parish Hall.  All are welcome! \n 
URL:https://stpatrickarcola.org/event/pro-life-group-of-st-patricks-and-queen-of-angels-will-meet-on-monday-evening-april-20-at-6pm-at-st-patricks-parish-hall-all-are-welcome/
END:VEVENT
BEGIN:VEVENT
DTSTART;TZID=America/Indiana/Indianapolis:20260420T180000
DTEND;TZID=America/Indiana/Indianapolis:20260420T200000
DTSTAMP:20260420T072222
CREATED:20260414T155844Z
LAST-MODIFIED:20260414T155848Z
UID:10000947-1776708000-1776715200@stpatrickarcola.org
SUMMARY:Young Adult Bible Study on Monday Evening (18–35-year-olds) will be held on Monday\, April 20 from 6-8 pm in the Conference Room.
DESCRIPTION:Young Adult Bible Study on Monday Evening (18–35-year-olds) will be held on Monday\, April 20 from 6-8 pm in the Conference Room.
URL:https://stpatrickarcola.org/event/young-adult-bible-study-on-monday-evening-18-35-year-olds-will-be-held-on-monday-april-20-from-6-8-pm-in-the-conference-room/
END:VEVENT
END:VCALENDAR