BEGIN:VCALENDAR
VERSION:2.0
PRODID:-//St. Patrick Church of Arcola - ECPv6.15.18//NONSGML v1.0//EN
CALSCALE:GREGORIAN
METHOD:PUBLISH
X-WR-CALNAME:St. Patrick Church of Arcola
X-ORIGINAL-URL:https://stpatrickarcola.org
X-WR-CALDESC:Events for St. Patrick Church of Arcola
REFRESH-INTERVAL;VALUE=DURATION:PT1H
X-Robots-Tag:noindex
X-PUBLISHED-TTL:PT1H
BEGIN:VTIMEZONE
TZID:America/Indiana/Indianapolis
BEGIN:DAYLIGHT
TZOFFSETFROM:-0500
TZOFFSETTO:-0400
TZNAME:EDT
DTSTART:20240310T070000
END:DAYLIGHT
BEGIN:STANDARD
TZOFFSETFROM:-0400
TZOFFSETTO:-0500
TZNAME:EST
DTSTART:20241103T060000
END:STANDARD
BEGIN:DAYLIGHT
TZOFFSETFROM:-0500
TZOFFSETTO:-0400
TZNAME:EDT
DTSTART:20250309T070000
END:DAYLIGHT
BEGIN:STANDARD
TZOFFSETFROM:-0400
TZOFFSETTO:-0500
TZNAME:EST
DTSTART:20251102T060000
END:STANDARD
BEGIN:DAYLIGHT
TZOFFSETFROM:-0500
TZOFFSETTO:-0400
TZNAME:EDT
DTSTART:20260308T070000
END:DAYLIGHT
BEGIN:STANDARD
TZOFFSETFROM:-0400
TZOFFSETTO:-0500
TZNAME:EST
DTSTART:20261101T060000
END:STANDARD
END:VTIMEZONE
BEGIN:VEVENT
DTSTART;TZID=America/Indiana/Indianapolis:20251209T183000
DTEND;TZID=America/Indiana/Indianapolis:20251209T183000
DTSTAMP:20260421T193102
CREATED:20251202T205833Z
LAST-MODIFIED:20251202T205932Z
UID:10000851-1765305000-1765305000@stpatrickarcola.org
SUMMARY:St. Patrick’s/Queen of Angels Pro Life Christmas Party will be on Tuesday\, December 9 at 6:30 pm in the parish hall.  Bring an appetizer or sweet treat to share!
DESCRIPTION:St. Patrick’s/Queen of Angels Pro Life Christmas Party will be on Tuesday\, December 9 at 6:30 pm in the parish hall.  Bring an appetizer or sweet treat to share!
URL:https://stpatrickarcola.org/event/st-patricks-queen-of-angels-pro-life-christmas-party-will-be-on-tuesday-december-9-at-630-pm-in-the-parish-hall-bring-an-appetizer-or-sweet-treat-to-share-2/
END:VEVENT
END:VCALENDAR