BEGIN:VCALENDAR
VERSION:2.0
PRODID:-//St. Patrick Church of Arcola - ECPv6.15.18//NONSGML v1.0//EN
CALSCALE:GREGORIAN
METHOD:PUBLISH
X-ORIGINAL-URL:https://stpatrickarcola.org
X-WR-CALDESC:Events for St. Patrick Church of Arcola
REFRESH-INTERVAL;VALUE=DURATION:PT1H
X-Robots-Tag:noindex
X-PUBLISHED-TTL:PT1H
BEGIN:VTIMEZONE
TZID:America/Indiana/Indianapolis
BEGIN:DAYLIGHT
TZOFFSETFROM:-0500
TZOFFSETTO:-0400
TZNAME:EDT
DTSTART:20240310T070000
END:DAYLIGHT
BEGIN:STANDARD
TZOFFSETFROM:-0400
TZOFFSETTO:-0500
TZNAME:EST
DTSTART:20241103T060000
END:STANDARD
BEGIN:DAYLIGHT
TZOFFSETFROM:-0500
TZOFFSETTO:-0400
TZNAME:EDT
DTSTART:20250309T070000
END:DAYLIGHT
BEGIN:STANDARD
TZOFFSETFROM:-0400
TZOFFSETTO:-0500
TZNAME:EST
DTSTART:20251102T060000
END:STANDARD
BEGIN:DAYLIGHT
TZOFFSETFROM:-0500
TZOFFSETTO:-0400
TZNAME:EDT
DTSTART:20260308T070000
END:DAYLIGHT
BEGIN:STANDARD
TZOFFSETFROM:-0400
TZOFFSETTO:-0500
TZNAME:EST
DTSTART:20261101T060000
END:STANDARD
END:VTIMEZONE
BEGIN:VEVENT
DTSTART;TZID=America/Indiana/Indianapolis:20250802T080000
DTEND;TZID=America/Indiana/Indianapolis:20250802T080000
DTSTAMP:20260420T105549
CREATED:20250715T200935Z
LAST-MODIFIED:20250715T200941Z
UID:10000774-1754121600-1754121600@stpatrickarcola.org
SUMMARY:First Saturday Mass will be on Saturday\, August 2 at 8:00 am followed by adoration\, devotion to the Immaculate Heart of Mary and confessions.
DESCRIPTION:First Saturday Mass will be on Saturday\, August 2 at 8:00 am followed by adoration\, devotion to the Immaculate Heart of Mary and confessions.
URL:https://stpatrickarcola.org/event/first-saturday-mass-will-be-on-saturday-august-2-at-800-am-followed-by-adoration-devotion-to-the-immaculate-heart-of-mary-and-confessions/
END:VEVENT
END:VCALENDAR