BEGIN:VCALENDAR
VERSION:2.0
PRODID:-//St. Patrick Church of Arcola - ECPv6.15.18//NONSGML v1.0//EN
CALSCALE:GREGORIAN
METHOD:PUBLISH
X-WR-CALNAME:St. Patrick Church of Arcola
X-ORIGINAL-URL:https://stpatrickarcola.org
X-WR-CALDESC:Events for St. Patrick Church of Arcola
REFRESH-INTERVAL;VALUE=DURATION:PT1H
X-Robots-Tag:noindex
X-PUBLISHED-TTL:PT1H
BEGIN:VTIMEZONE
TZID:America/Indiana/Indianapolis
BEGIN:DAYLIGHT
TZOFFSETFROM:-0500
TZOFFSETTO:-0400
TZNAME:EDT
DTSTART:20240310T070000
END:DAYLIGHT
BEGIN:STANDARD
TZOFFSETFROM:-0400
TZOFFSETTO:-0500
TZNAME:EST
DTSTART:20241103T060000
END:STANDARD
BEGIN:DAYLIGHT
TZOFFSETFROM:-0500
TZOFFSETTO:-0400
TZNAME:EDT
DTSTART:20250309T070000
END:DAYLIGHT
BEGIN:STANDARD
TZOFFSETFROM:-0400
TZOFFSETTO:-0500
TZNAME:EST
DTSTART:20251102T060000
END:STANDARD
BEGIN:DAYLIGHT
TZOFFSETFROM:-0500
TZOFFSETTO:-0400
TZNAME:EDT
DTSTART:20260308T070000
END:DAYLIGHT
BEGIN:STANDARD
TZOFFSETFROM:-0400
TZOFFSETTO:-0500
TZNAME:EST
DTSTART:20261101T060000
END:STANDARD
END:VTIMEZONE
BEGIN:VEVENT
DTSTART;VALUE=DATE:20250614
DTEND;VALUE=DATE:20250616
DTSTAMP:20260421T190754
CREATED:20250527T145142Z
LAST-MODIFIED:20250527T145214Z
UID:10000763-1749859200-1750031999@stpatrickarcola.org
SUMMARY:Drive-thru Baby Shower in honor and memory of Bonnie Davis on Saturday\, June 14 and Sunday\, June 15 after all of the weekend masses
DESCRIPTION:Drive-thru Baby Shower in honor and memory of Bonnie Davis on Saturday\, June 14 and Sunday\, June 15 after all of the weekend masses. All donations will go to the local Women’s Care Centers. Donations can be dropped off under the tent by the old school building. Thank you.
URL:https://stpatrickarcola.org/event/drive-thru-baby-shower-in-honor-and-memory-of-bonnie-davis-on-saturday-june-14-and-sunday-june-15-after-all-of-the-weekend-masses/
END:VEVENT
BEGIN:VEVENT
DTSTART;TZID=America/Indiana/Indianapolis:20250615T110000
DTEND;TZID=America/Indiana/Indianapolis:20250615T110000
DTSTAMP:20260421T190754
CREATED:20250610T171700Z
LAST-MODIFIED:20250610T171707Z
UID:10000765-1749985200-1749985200@stpatrickarcola.org
SUMMARY:Father's Day Chicken on Sunday\, June 15 from 11am till gone at the Fire Station - drive thru only\, free will donation\, chicken halves only
DESCRIPTION:Father’s Day Chicken on Sunday\, June 15 from 11am till gone at the Fire Station – drive thru only\, free will donation\, chicken halves only. \nSponsored by Arcola Lions Club and all proceeds will support events and charities in our local community. \n  \n 
URL:https://stpatrickarcola.org/event/fathers-day-chicken-on-sunday-june-15-from-11am-till-gone-at-the-fire-station-drive-thru-only-free-will-donation-chicken-halves-only/
END:VEVENT
END:VCALENDAR