BEGIN:VCALENDAR
VERSION:2.0
PRODID:-//St. Patrick Church of Arcola - ECPv6.15.18//NONSGML v1.0//EN
CALSCALE:GREGORIAN
METHOD:PUBLISH
X-WR-CALNAME:St. Patrick Church of Arcola
X-ORIGINAL-URL:https://stpatrickarcola.org
X-WR-CALDESC:Events for St. Patrick Church of Arcola
REFRESH-INTERVAL;VALUE=DURATION:PT1H
X-Robots-Tag:noindex
X-PUBLISHED-TTL:PT1H
BEGIN:VTIMEZONE
TZID:America/Indiana/Indianapolis
BEGIN:DAYLIGHT
TZOFFSETFROM:-0500
TZOFFSETTO:-0400
TZNAME:EDT
DTSTART:20240310T070000
END:DAYLIGHT
BEGIN:STANDARD
TZOFFSETFROM:-0400
TZOFFSETTO:-0500
TZNAME:EST
DTSTART:20241103T060000
END:STANDARD
BEGIN:DAYLIGHT
TZOFFSETFROM:-0500
TZOFFSETTO:-0400
TZNAME:EDT
DTSTART:20250309T070000
END:DAYLIGHT
BEGIN:STANDARD
TZOFFSETFROM:-0400
TZOFFSETTO:-0500
TZNAME:EST
DTSTART:20251102T060000
END:STANDARD
BEGIN:DAYLIGHT
TZOFFSETFROM:-0500
TZOFFSETTO:-0400
TZNAME:EDT
DTSTART:20260308T070000
END:DAYLIGHT
BEGIN:STANDARD
TZOFFSETFROM:-0400
TZOFFSETTO:-0500
TZNAME:EST
DTSTART:20261101T060000
END:STANDARD
END:VTIMEZONE
BEGIN:VEVENT
DTSTART;VALUE=DATE:20250426
DTEND;VALUE=DATE:20250427
DTSTAMP:20260420T135033
CREATED:20250221T181019Z
LAST-MODIFIED:20250318T152246Z
UID:10000725-1745625600-1745711999@stpatrickarcola.org
SUMMARY:Blessing of the Bikes on Saturday\, April 26 at 1pm. Food and Beverages\, 50/50 drawing\, event T-shirts.  Free Admission. Come early!
DESCRIPTION:Blessing of the Bikes on Saturday\, April 26 at 1pm. Food and Beverages\, 50/50 drawing\, event T-shirts. Free Admission. Come early! \nAll proceeds donated to the St. Patrick’s Youth Group!
URL:https://stpatrickarcola.org/event/blessing-of-the-bikes-on-saturday-april-26/
END:VEVENT
END:VCALENDAR